BEGIN:VCALENDAR
VERSION:2.0
PRODID:-//Squarespace Inc/Squarespace 6//v6//EN
BEGIN:VEVENT
UID:5d82c83484be497be55de06a@squarespace.com
DTSTAMP:20191002T073902Z
DTSTART:20191017T233000Z
DTEND:20191018T013000Z
SUMMARY:Thur 17 Oct: Competition judging: 2019 Photoshoot outings and Hunt 
 &amp\; Shoot
END:VEVENT
END:VCALENDAR
