BEGIN:VCALENDAR
VERSION:2.0
PRODID:-//Squarespace Inc/Squarespace 6//v6//EN
BEGIN:VEVENT
UID:5d82bfb0b6d07b06ee027f6b@squarespace.com
DTSTAMP:20191002T074705Z
DTSTART:20191003T233000Z
DTEND:20191004T013000Z
SUMMARY:Thur 3 Oct: ANNUAL competition judging: STILL LIFE and ARTISTS (OPE
 N)
END:VEVENT
END:VCALENDAR
