BEGIN:VCALENDAR
VERSION:2.0
PRODID:-//Squarespace Inc/Squarespace 6//v6//EN
BEGIN:VEVENT
UID:5d927c200e0e632e6c4cb27b@squarespace.com
DTSTAMP:20190930T222159Z
DTSTART:20191122T003000Z
DTEND:20191122T023000Z
SUMMARY:Thur 21 Nov: COMPETITION JUDGING:  2019 ANNUAL PRINTS - Creative\, 
 Nature\, Pictorial\, Social Documentary
END:VEVENT
END:VCALENDAR
