BEGIN:VCALENDAR
VERSION:2.0
PRODID:-//Squarespace Inc/Squarespace 6//v6//EN
BEGIN:VEVENT
UID:5d9272f91da3960e214ef1c3@squarespace.com
DTSTAMP:20191026T024130Z
DTSTART:20191108T003000Z
DTEND:20191108T023000Z
SUMMARY:Thur 7 Nov: COMPETITION JUDGING:  2019 ANNUAL DPIs - Creative\, Nat
 ure\, Pictorial\, Social Documentary
END:VEVENT
END:VCALENDAR
