BEGIN:VCALENDAR
VERSION:2.0
PRODID:-//Squarespace Inc/Squarespace 6//v6//EN
BEGIN:VEVENT
UID:5d927d758f98e93b287e3981@squarespace.com
DTSTAMP:20191209T022859Z
DTSTART:20191212T233000Z
DTEND:20191213T023000Z
SUMMARY:Thur 12 Dec: Annual Dinner and major awards presentation
END:VEVENT
END:VCALENDAR
