BEGIN:VCALENDAR
VERSION:2.0
PRODID:-//Squarespace Inc/Squarespace 6//v6//EN
BEGIN:VEVENT
UID:5c68f6e1104c7b6738ca5ada@squarespace.com
DTSTAMP:20190217T064245Z
DTSTART:20190301T000000Z
DTEND:20190301T020000Z
SUMMARY:FOCUS GROUP: Photobook Preparation 
END:VEVENT
END:VCALENDAR
