BEGIN:VCALENDAR
VERSION:2.0
PRODID:-//Squarespace Inc/Squarespace 6//v6//EN
BEGIN:VEVENT
UID:5e13f4242b24c63d08f59adf@squarespace.com
DTSTAMP:20200107T031820Z
DTSTART:20200501T210000Z
DTEND:20200504T210000Z
SUMMARY:PSQ Annual Convention\, Mackay
END:VEVENT
END:VCALENDAR
