BEGIN:VCALENDAR
VERSION:2.0
PRODID:-//Squarespace Inc/Squarespace 6//v6//EN
BEGIN:VEVENT
UID:5e13f901f98bf1711b2bdfdd@squarespace.com
DTSTAMP:20200107T040749Z
DTSTART:20200927T120000Z
DTEND:20200927T140000Z
SUMMARY:Sun 27 September. ANNUAL HUNT AND SHOOT
END:VEVENT
END:VCALENDAR
