BEGIN:VCALENDAR
VERSION:2.0
PRODID:-//Squarespace Inc/Squarespace 6//v6//EN
BEGIN:VEVENT
UID:5e13f8a66a1648698be987a1@squarespace.com
DTSTAMP:20200107T031951Z
DTSTART:20200531T120000Z
DTEND:20200531T140000Z
SUMMARY:Sun 31 May. PHOTOSHOOT
END:VEVENT
END:VCALENDAR
