BEGIN:VCALENDAR
VERSION:2.0
PRODID:-//Squarespace Inc/Squarespace 6//v6//EN
BEGIN:VEVENT
UID:5e13f2b32b24c63d08f572f5@squarespace.com
DTSTAMP:20200107T025730Z
DTSTART:20200329T120000Z
DTEND:20200329T140000Z
SUMMARY:Sun 29 March. PHOTOSHOOT
END:VEVENT
END:VCALENDAR
