BEGIN:VCALENDAR
VERSION:2.0
PRODID:-//Squarespace Inc/Squarespace 6//v6//EN
BEGIN:VEVENT
UID:5e1301ac08c15a57c86a6764@squarespace.com
DTSTAMP:20200210T064601Z
DTSTART:20200223T230000Z
DTEND:20200224T020000Z
SUMMARY:Sun 23 February. PHOTOSHOOT - Wilson Outlook Reserve
END:VEVENT
END:VCALENDAR
