BEGIN:VCALENDAR
VERSION:2.0
PRODID:-//Squarespace Inc/Squarespace 6//v6//EN
BEGIN:VEVENT
UID:5c68f6317817f7d0df4dae86@squarespace.com
DTSTAMP:20190217T060322Z
DTSTART:20190224T130000Z
DTEND:20190224T150000Z
SUMMARY:PHOTOSHOOT: South Bank\, Brisbane 
END:VEVENT
END:VCALENDAR
