BEGIN:VCALENDAR
VERSION:2.0
PRODID:-//Squarespace Inc/Squarespace 6//v6//EN
BEGIN:VEVENT
UID:5c68f3427817f7d0df4d9c35@squarespace.com
DTSTAMP:20190220T015221Z
DTSTART:20190222T000000Z
DTEND:20190222T023000Z
SUMMARY:COMPETITION Judging: SCAPES and OPEN
END:VEVENT
END:VCALENDAR
