BEGIN:VCALENDAR
VERSION:2.0
PRODID:-//Squarespace Inc/Squarespace 6//v6//EN
BEGIN:VEVENT
UID:5c7f78bce2c4833644d1adb6@squarespace.com
DTSTAMP:20190313T053016Z
DTSTART:20190316T170000Z
DTEND:20190316T190000Z
SUMMARY:PORTRAIT GROUP
END:VEVENT
END:VCALENDAR
