BEGIN:VCALENDAR
VERSION:2.0
PRODID:-//Squarespace Inc/Squarespace 6//v6//EN
BEGIN:VEVENT
UID:5c8f2b1d1905f4b12d0b1edc@squarespace.com
DTSTAMP:20190318T053114Z
DTSTART:20190417T233000Z
DTEND:20190418T013000Z
SUMMARY:COMPETITION JUDGING: ARCHITECTURE and OPEN
END:VEVENT
END:VCALENDAR
