BEGIN:VCALENDAR
VERSION:2.0
PRODID:-//Squarespace Inc/Squarespace 6//v6//EN
BEGIN:VEVENT
UID:5c7f78534192026f0db50abe@squarespace.com
DTSTAMP:20190318T041843Z
DTSTART:20190321T233000Z
DTEND:20190322T013000Z
SUMMARY:COMPETITION Judging: MY BRISBANE and OPEN
END:VEVENT
END:VCALENDAR
