BEGIN:VCALENDAR
VERSION:2.0
PRODID:-//Squarespace Inc/Squarespace 6//v6//EN
BEGIN:VEVENT
UID:5c7f79f1f4e1fcc96b86d57e@squarespace.com
DTSTAMP:20190320T035733Z
DTSTART:20190328T230000Z
DTEND:20190329T010000Z
SUMMARY:FOCUS GROUP
END:VEVENT
END:VCALENDAR
