BEGIN:VCALENDAR
VERSION:2.0
PRODID:-//Squarespace Inc/Squarespace 6//v6//EN
BEGIN:VEVENT
UID:5c7f779fe5e5f03514809ef3@squarespace.com
DTSTAMP:20190306T073942Z
DTSTART:20190308T003000Z
DTEND:20190308T023000Z
SUMMARY:SPEAKERS: ROB CRAPNELL\, KEITH STEWART - Architecture Photography i
 n Brisbane
END:VEVENT
END:VCALENDAR
