BEGIN:VCALENDAR
VERSION:2.0
PRODID:-//Squarespace Inc/Squarespace 6//v6//EN
BEGIN:VEVENT
UID:5c8f2cd6104c7b066ebccc42@squarespace.com
DTSTAMP:20190318T053036Z
DTSTART:20190425T090000Z
DTEND:20190425T220000Z
SUMMARY:PHOTOSHOOT: Any ANZAC Day Ceremony of your choice
END:VEVENT
END:VCALENDAR
