BEGIN:VCALENDAR
VERSION:2.0
PRODID:-//Squarespace Inc/Squarespace 6//v6//EN
BEGIN:VEVENT
UID:5c8f28a0c8302569d1171944@squarespace.com
DTSTAMP:20190318T055822Z
DTSTART:20190404T230000Z
DTEND:20190405T003000Z
SUMMARY:SPEAKER: Adam Finch\, Photographer
END:VEVENT
END:VCALENDAR
