BEGIN:VCALENDAR
VERSION:2.0
PRODID:-//Squarespace Inc/Squarespace 6//v6//EN
BEGIN:VEVENT
UID:5cc55ae59140b7ee61e43dd0@squarespace.com
DTSTAMP:20190506T061734Z
DTSTART:20190516T230000Z
DTEND:20190517T013000Z
SUMMARY:COMPETITION Judging: TRANSPORTATION &amp\; OPEN
END:VEVENT
END:VCALENDAR
