BEGIN:VCALENDAR
VERSION:2.0
PRODID:-//Squarespace Inc/Squarespace 6//v6//EN
BEGIN:VEVENT
UID:5cc559faf4e1fc08df1f1734@squarespace.com
DTSTAMP:20190428T075418Z
DTSTART:20190502T230000Z
DTEND:20190503T013000Z
SUMMARY:SPEAKER: Ian Wilkinson\, Travel photographer\, focussing on Japan
END:VEVENT
END:VCALENDAR
