BEGIN:VCALENDAR
VERSION:2.0
PRODID:-//Squarespace Inc/Squarespace 6//v6//EN
BEGIN:VEVENT
UID:5cc66704f9619af51375c31b@squarespace.com
DTSTAMP:20190429T025459Z
DTSTART:20190504T120000Z
DTEND:20190506T210000Z
SUMMARY:PSQ ANNUAL CONVENTION
END:VEVENT
END:VCALENDAR
