BEGIN:VCALENDAR
VERSION:2.0
PRODID:-//Squarespace Inc/Squarespace 6//v6//EN
BEGIN:VEVENT
UID:5cebd92e53450a42d3005056@squarespace.com
DTSTAMP:20190527T123722Z
DTSTART:20190615T150000Z
DTEND:20190615T170000Z
SUMMARY:Sat 15 JUNE: PORTRAIT GROUP    Note: new timeslot this month!
END:VEVENT
END:VCALENDAR
