BEGIN:VCALENDAR
VERSION:2.0
PRODID:-//Squarespace Inc/Squarespace 6//v6//EN
BEGIN:VEVENT
UID:5cebd52f6e9a7f68cda75c35@squarespace.com
DTSTAMP:20190528T045910Z
DTSTART:20190602T130000Z
DTEND:20190602T163000Z
SUMMARY:Sun 2 JUNE Portrait Sessions for Multiple Birth Association
END:VEVENT
END:VCALENDAR
