BEGIN:VCALENDAR
VERSION:2.0
PRODID:-//Squarespace Inc/Squarespace 6//v6//EN
BEGIN:VEVENT
UID:5e12f247c3a000112183bbed@squarespace.com
DTSTAMP:20200106T084615Z
DTSTART:20200319T233000Z
DTEND:20200320T013000Z
SUMMARY:Thur 19 March. COMPETITION JUDGING: Action and Open
END:VEVENT
END:VCALENDAR
