BEGIN:VCALENDAR
VERSION:2.0
PRODID:-//Squarespace Inc/Squarespace 6//v6//EN
BEGIN:VEVENT
UID:5e12f42c62ad5d43f3dbfb24@squarespace.com
DTSTAMP:20200106T085013Z
DTSTART:20200618T233000Z
DTEND:20200619T013000Z
SUMMARY:Thur 18 June. COMPETITION JUDGING: Portrait and Open
END:VEVENT
END:VCALENDAR
