BEGIN:VCALENDAR
VERSION:2.0
PRODID:-//Squarespace Inc/Squarespace 6//v6//EN
BEGIN:VEVENT
UID:5e12f1b688456a2a6f792efd@squarespace.com
DTSTAMP:20200106T083810Z
DTSTART:20200416T233000Z
DTEND:20200417T013000Z
SUMMARY:Thurs 16 April. COMPETITION JUDGING: Song or Film Title and Open (B
 lack and White)
END:VEVENT
END:VCALENDAR
