BEGIN:VCALENDAR
VERSION:2.0
PRODID:-//Squarespace Inc/Squarespace 6//v6//EN
BEGIN:VEVENT
UID:5e12efe995a27273eba41ab9@squarespace.com
DTSTAMP:20200106T084423Z
DTSTART:20200521T233000Z
DTEND:20200522T013000Z
SUMMARY:Thur 21 May. COMPETITION JUDGING: Still Life and Open
END:VEVENT
END:VCALENDAR
