BEGIN:VCALENDAR
VERSION:2.0
PRODID:-//Squarespace Inc/Squarespace 6//v6//EN
BEGIN:VEVENT
UID:5e12ea8f749ef14481fc847b@squarespace.com
DTSTAMP:20200211T015715Z
DTSTART:20200221T003000Z
DTEND:20200221T023000Z
SUMMARY:Thur 20 February. COMPETITION JUDGING: Scapes and Open
END:VEVENT
END:VCALENDAR
