BEGIN:VCALENDAR
VERSION:2.0
PRODID:-//Squarespace Inc/Squarespace 6//v6//EN
BEGIN:VEVENT
UID:5cebd9ad419202740b118571@squarespace.com
DTSTAMP:20190527T123641Z
DTSTART:20190620T233000Z
DTEND:20190621T013000Z
SUMMARY:Thurs 20 JUNE: COMPETITION JUDGING People &amp\; Open
END:VEVENT
END:VCALENDAR
