BEGIN:VCALENDAR
VERSION:2.0
PRODID:-//Squarespace Inc/Squarespace 6//v6//EN
BEGIN:VEVENT
UID:5d12b33c49d2360001cdbf11@squarespace.com
DTSTAMP:20190627T074001Z
DTSTART:20190720T150000Z
DTEND:20190720T170000Z
SUMMARY:Sat 20 PORTRAIT GROUP 11am - 1pm
END:VEVENT
END:VCALENDAR
