BEGIN:VCALENDAR
VERSION:2.0
PRODID:-//Squarespace Inc/Squarespace 6//v6//EN
BEGIN:VEVENT
UID:5d01b7f7505b1000012bc342@squarespace.com
DTSTAMP:20190626T105149Z
DTSTART:20190627T230000Z
DTEND:20190628T010000Z
SUMMARY:FOCUS GROUP: Light Painting with David Chesterfield 
END:VEVENT
END:VCALENDAR
