BEGIN:VCALENDAR
VERSION:2.0
PRODID:-//Squarespace Inc/Squarespace 6//v6//EN
BEGIN:VEVENT
UID:5cebda22ec212dc60a528f7f@squarespace.com
DTSTAMP:20190528T043406Z
DTSTART:20190630T100000Z
DTEND:20190630T140000Z
SUMMARY:Sun 30 JUNE: CLUB PHOTOSHOOT - Dawn
END:VEVENT
END:VCALENDAR
