BEGIN:VCALENDAR
VERSION:2.0
PRODID:-//Squarespace Inc/Squarespace 6//v6//EN
BEGIN:VEVENT
UID:5cebd44de79c7041accb9a67@squarespace.com
DTSTAMP:20190527T123523Z
DTSTART:20190606T233000Z
DTEND:20190607T003000Z
SUMMARY:Thurs 6 June GUEST SPEAKER: John Little - Fine Art Black and White 
 Photographer
END:VEVENT
END:VCALENDAR
