BEGIN:VCALENDAR
VERSION:2.0
PRODID:-//Squarespace Inc/Squarespace 6//v6//EN
BEGIN:VEVENT
UID:5cebd612eb39313d13b5a1bb@squarespace.com
DTSTAMP:20190528T043209Z
DTSTART:20190608T150000Z
DTEND:20190608T180000Z
SUMMARY:Sat 8  JUNE PHOTOSHOOT: Brisbane City Council Pet Fair 
END:VEVENT
END:VCALENDAR
