BEGIN:VCALENDAR
VERSION:2.0
PRODID:-//Squarespace Inc/Squarespace 6//v6//EN
BEGIN:VEVENT
UID:5d12b2dc9afaad00010afc35@squarespace.com
DTSTAMP:20190626T105356Z
DTSTART:20190718T233000Z
DTEND:20190719T013000Z
SUMMARY:Thurs 18 COMPETITION Judging: MOVEMENT and OPEN
END:VEVENT
END:VCALENDAR
