BEGIN:VCALENDAR
VERSION:2.0
PRODID:-//Squarespace Inc/Squarespace 6//v6//EN
BEGIN:VEVENT
UID:5d393b3579ab25000100f4de@squarespace.com
DTSTAMP:20190805T012226Z
DTSTART:20190808T220000Z
DTEND:20190809T003000Z
SUMMARY:Thurs 8 Aug: PHOTOBOOK COMPETITION awards
END:VEVENT
END:VCALENDAR
