BEGIN:VCALENDAR
VERSION:2.0
PRODID:-//Squarespace Inc/Squarespace 6//v6//EN
BEGIN:VEVENT
UID:5d12b3c99afaad00010b09a7@squarespace.com
DTSTAMP:20190725T063452Z
DTSTART:20190728T103000Z
DTEND:20190728T140000Z
SUMMARY:Sun 28 PHOTOSHOOT: Sausage Sizzle Breakfast\, Photo Workshops at Ox
 ley Creek Common
END:VEVENT
END:VCALENDAR
