BEGIN:VCALENDAR
VERSION:2.0
PRODID:-//Squarespace Inc/Squarespace 6//v6//EN
BEGIN:VEVENT
UID:5d12b13f9096300001c62bbb@squarespace.com
DTSTAMP:20190626T105615Z
DTSTART:20190704T233000Z
DTEND:20190705T013000Z
SUMMARY:Thurs 4 CLUB Q&amp\;A\, MEMBER SPEAKERS (The Story Behind The Photo
 )
END:VEVENT
END:VCALENDAR
