BEGIN:VCALENDAR
VERSION:2.0
PRODID:-//Squarespace Inc/Squarespace 6//v6//EN
BEGIN:VEVENT
UID:5d3937f811c813000145ae51@squarespace.com
DTSTAMP:20190725T051614Z
DTSTART:20190801T170000Z
DTEND:20190802T010300Z
SUMMARY:Thurs 1 August GUEST SPEAKER Gary Cranitch
END:VEVENT
END:VCALENDAR
