BEGIN:VCALENDAR
VERSION:2.0
PRODID:-//Squarespace Inc/Squarespace 6//v6//EN
BEGIN:VEVENT
UID:5d393bc994aa320001effcbf@squarespace.com
DTSTAMP:20190811T031827Z
DTSTART:20190815T233000Z
DTEND:20190816T010000Z
SUMMARY:Thurs 15 August: AV COMP JUDGING
END:VEVENT
END:VCALENDAR
