BEGIN:VCALENDAR
VERSION:2.0
PRODID:-//Squarespace Inc/Squarespace 6//v6//EN
BEGIN:VEVENT
UID:5d393e48582e15000119b167@squarespace.com
DTSTAMP:20190811T031740Z
DTSTART:20190817T150000Z
DTEND:20190817T170000Z
SUMMARY:Sat 17 Aug: PORTRAIT GROUP
END:VEVENT
END:VCALENDAR
