BEGIN:VCALENDAR
VERSION:2.0
PRODID:-//Squarespace Inc/Squarespace 6//v6//EN
BEGIN:VEVENT
UID:5d393c504397f10001206838@squarespace.com
DTSTAMP:20190811T031804Z
DTSTART:20190822T230000Z
DTEND:20190823T010000Z
SUMMARY:Thurs 22 Aug: FOCUS GROUP - Photoshop Composites\, Phil Lawrence
END:VEVENT
END:VCALENDAR
