BEGIN:VCALENDAR
VERSION:2.0
PRODID:-//Squarespace Inc/Squarespace 6//v6//EN
BEGIN:VEVENT
UID:5d393d058b5ad00001879012@squarespace.com
DTSTAMP:20190811T083042Z
DTSTART:20190830T140000Z
DTEND:20190901T140000Z
SUMMARY:Fri 30 Aug - Sun 1 Sept: JOINT PHOTOGRAPHIC WEEKEND Bribie Island
END:VEVENT
END:VCALENDAR
