BEGIN:VCALENDAR
VERSION:2.0
PRODID:-//Squarespace Inc/Squarespace 6//v6//EN
BEGIN:VEVENT
UID:5d520d4e10da000001929e92@squarespace.com
DTSTAMP:20190818T061010Z
DTSTART:20190919T233000Z
DTEND:20190920T013000Z
SUMMARY:Thur 19 Sept: AGM &amp\; competition judging: Three Related Images
END:VEVENT
END:VCALENDAR
