BEGIN:VCALENDAR
VERSION:2.0
PRODID:-//Squarespace Inc/Squarespace 6//v6//EN
BEGIN:VEVENT
UID:5e12e85088456a2a6f7876a1@squarespace.com
DTSTAMP:20200106T083454Z
DTSTART:20200620T150000Z
DTEND:20200620T170000Z
SUMMARY:Sat 20 June. PORTRAIT GROUP
END:VEVENT
END:VCALENDAR
