BEGIN:VCALENDAR
VERSION:2.0
PRODID:-//Squarespace Inc/Squarespace 6//v6//EN
BEGIN:VEVENT
UID:5e12e8091683ea216c9fb8e4@squarespace.com
DTSTAMP:20200106T083417Z
DTSTART:20200516T150000Z
DTEND:20200516T170000Z
SUMMARY:Sat 16 May. PORTRAIT GROUP
END:VEVENT
END:VCALENDAR
