BEGIN:VCALENDAR
VERSION:2.0
PRODID:-//Squarespace Inc/Squarespace 6//v6//EN
BEGIN:VEVENT
UID:5e12e78985478a35285a43bf@squarespace.com
DTSTAMP:20200106T083343Z
DTSTART:20200418T150000Z
DTEND:20200418T170000Z
SUMMARY:Sat 18 April. PORTRAIT GROUP
END:VEVENT
END:VCALENDAR
