BEGIN:VCALENDAR
VERSION:2.0
PRODID:-//Squarespace Inc/Squarespace 6//v6//EN
BEGIN:VEVENT
UID:5e12e72f95a27273eba391a0@squarespace.com
DTSTAMP:20200227T062226Z
DTSTART:20200321T150000Z
DTEND:20200321T170000Z
SUMMARY:Sat 21 March. PORTRAIT GROUP
END:VEVENT
END:VCALENDAR
